BEGIN:VCALENDAR
VERSION:2.0
PRODID:-//Evangelische Kreuzkirche Fulda//NONSGML kigkonsult.se iCalcreator
  2.16.12//
METHOD:PUBLISH
X-MS-OLK-FORCEINSPECTOROPEN:TRUE
BEGIN:VEVENT
UID:20260423T153445CEST-3642dnuXWs@Evangelische Kreuzkirche Fulda
DTSTAMP:20260423T133445Z
DESCRIPTION:
DTSTART:20260522T150000
DTEND:20260522T163000
ORGANIZER:MAILTO:Evangelische Kreuzkirche Fulda <webmaster@kreuzkirche-fuld
 a.de>
SUMMARY:Pfingstpicknick
END:VEVENT
END:VCALENDAR
