BEGIN:VCALENDAR
VERSION:2.0
PRODID:-//Evangelische Kreuzkirche Fulda//NONSGML kigkonsult.se iCalcreator
  2.16.12//
METHOD:PUBLISH
X-MS-OLK-FORCEINSPECTOROPEN:TRUE
BEGIN:VEVENT
UID:20260420T131033CEST-8773WL3htd@Evangelische Kreuzkirche Fulda
DTSTAMP:20260420T111033Z
DESCRIPTION:
DTSTART:20260426T103000
DTEND:20260426T113000
LOCATION:Kreuzkirche
ORGANIZER:MAILTO:Evangelische Kreuzkirche Fulda <webmaster@kreuzkirche-fuld
 a.de>
SUMMARY:Konfirmation mit Abendmahl für Konfirmierte (Pfr. Bürger / Valentin
 a Riebel)
END:VEVENT
END:VCALENDAR
