BEGIN:VCALENDAR
VERSION:2.0
PRODID:-//Evangelische Kreuzkirche Fulda//NONSGML kigkonsult.se iCalcreator
  2.16.12//
METHOD:PUBLISH
X-MS-OLK-FORCEINSPECTOROPEN:TRUE
BEGIN:VEVENT
UID:20260420T114341CEST-2800VJiKuT@Evangelische Kreuzkirche Fulda
DTSTAMP:20260420T094341Z
DESCRIPTION:mit Kigo\, mit Verabschiedung und Einführung Kirchenvorstände
DTSTART:20251207T110000
DTEND:20251207T120000
LOCATION:Sippelshof
ORGANIZER:MAILTO:Evangelische Kreuzkirche Fulda <webmaster@kreuzkirche-fuld
 a.de>
SUMMARY:AAAnderer Gottesdienst – (Pfarrer Bürger\, AAA-Team\, Band und Gäst
 e)
END:VEVENT
END:VCALENDAR
