BEGIN:VCALENDAR
VERSION:2.0
PRODID:-//Evangelische Kreuzkirche Fulda//NONSGML kigkonsult.se iCalcreator
  2.16.12//
METHOD:PUBLISH
X-MS-OLK-FORCEINSPECTOROPEN:TRUE
BEGIN:VEVENT
UID:20260420T112321CEST-2616CXjfGL@Evangelische Kreuzkirche Fulda
DTSTAMP:20260420T092321Z
DESCRIPTION:
DTSTART:20250720T110000
DTEND:20250720T120000
LOCATION:Kreuzkirche
ORGANIZER:MAILTO:Evangelische Kreuzkirche Fulda <webmaster@kreuzkirche-fuld
 a.de>
SUMMARY:Gottesdienst (Lektorin Wink)
END:VEVENT
END:VCALENDAR
