BEGIN:VCALENDAR
VERSION:2.0
PRODID:-//Evangelische Kreuzkirche Fulda//NONSGML kigkonsult.se iCalcreator
  2.16.12//
METHOD:PUBLISH
X-MS-OLK-FORCEINSPECTOROPEN:TRUE
BEGIN:VEVENT
UID:20260420T224216CEST-8108kEIiIs@Evangelische Kreuzkirche Fulda
DTSTAMP:20260420T204216Z
DESCRIPTION:Als Talkgast freuen wir uns auf Christian Stadtfeld (Geschäftsf
 ührer bei Osthessen-news und ehrenamtlich bei DRK)
DTSTART:20230224T180000
DTEND:20230224T190000
LOCATION:Kreuzkirche
ORGANIZER:MAILTO:Evangelische Kreuzkirche Fulda <webmaster@kreuzkirche-fuld
 a.de>
SUMMARY:'Freitagabend - Get together' (Pfr. Bürger und Team)
END:VEVENT
END:VCALENDAR
